BEGIN:VCALENDAR
VERSION:2.0
PRODID:-//Church of God - ECPv6.15.20//NONSGML v1.0//EN
CALSCALE:GREGORIAN
METHOD:PUBLISH
X-ORIGINAL-URL:https://www.churchofgodeveninglight.com
X-WR-CALDESC:Events for Church of God
REFRESH-INTERVAL;VALUE=DURATION:PT1H
X-Robots-Tag:noindex
X-PUBLISHED-TTL:PT1H
BEGIN:VTIMEZONE
TZID:America/New_York
BEGIN:DAYLIGHT
TZOFFSETFROM:-0500
TZOFFSETTO:-0400
TZNAME:EDT
DTSTART:20250309T070000
END:DAYLIGHT
BEGIN:STANDARD
TZOFFSETFROM:-0400
TZOFFSETTO:-0500
TZNAME:EST
DTSTART:20251102T060000
END:STANDARD
BEGIN:DAYLIGHT
TZOFFSETFROM:-0500
TZOFFSETTO:-0400
TZNAME:EDT
DTSTART:20260308T070000
END:DAYLIGHT
BEGIN:STANDARD
TZOFFSETFROM:-0400
TZOFFSETTO:-0500
TZNAME:EST
DTSTART:20261101T060000
END:STANDARD
BEGIN:DAYLIGHT
TZOFFSETFROM:-0500
TZOFFSETTO:-0400
TZNAME:EDT
DTSTART:20270314T070000
END:DAYLIGHT
BEGIN:STANDARD
TZOFFSETFROM:-0400
TZOFFSETTO:-0500
TZNAME:EST
DTSTART:20271107T060000
END:STANDARD
END:VTIMEZONE
BEGIN:VEVENT
DTSTART;VALUE=DATE:20260624
DTEND;VALUE=DATE:20260629
DTSTAMP:20260419T225706
CREATED:20230304T193221Z
LAST-MODIFIED:20260306T025215Z
UID:10000052-1782259200-1782691199@www.churchofgodeveninglight.com
SUMMARY:Fresno Campmeeting
DESCRIPTION:Fresno Camp meeting -2026\nWednesday\, June 24th to Sunday\, June 28th \nServices will be held at\n388 N. First St\, Fresno\, CA 93721 \nWednesday to Friday\n11:00 am and 7:00 pm \nSaturday\n11:00 am\, 2:30 pm and 7:00 pm \nSunday\nSunday School 9:30\nServices: 10:30 am and 2:30 pm \nFor information\, please contact\nBrother Parrish\nat 559-519-5805
URL:https://www.churchofgodeveninglight.com/meetings/fresno-campmeeting/
LOCATION:Fresno\, California\, 388 N. First Street\, Fresno\, CA\, 93702
CATEGORIES:Camp Meeting,Meeting,Revival
GEO:36.7483829;-119.772199
X-APPLE-STRUCTURED-LOCATION;VALUE=URI;X-ADDRESS=Fresno California 388 N. First Street Fresno CA 93702;X-APPLE-RADIUS=500;X-TITLE=388 N. First Street:geo:-119.772199,36.7483829
END:VEVENT
END:VCALENDAR