BEGIN:VCALENDAR
VERSION:2.0
PRODID:-//Church of God - ECPv6.15.20//NONSGML v1.0//EN
CALSCALE:GREGORIAN
METHOD:PUBLISH
X-WR-CALNAME:Church of God
X-ORIGINAL-URL:https://www.churchofgodeveninglight.com
X-WR-CALDESC:Events for Church of God
REFRESH-INTERVAL;VALUE=DURATION:PT1H
X-Robots-Tag:noindex
X-PUBLISHED-TTL:PT1H
BEGIN:VTIMEZONE
TZID:America/New_York
BEGIN:DAYLIGHT
TZOFFSETFROM:-0500
TZOFFSETTO:-0400
TZNAME:EDT
DTSTART:20210314T070000
END:DAYLIGHT
BEGIN:STANDARD
TZOFFSETFROM:-0400
TZOFFSETTO:-0500
TZNAME:EST
DTSTART:20211107T060000
END:STANDARD
BEGIN:DAYLIGHT
TZOFFSETFROM:-0500
TZOFFSETTO:-0400
TZNAME:EDT
DTSTART:20220313T070000
END:DAYLIGHT
BEGIN:STANDARD
TZOFFSETFROM:-0400
TZOFFSETTO:-0500
TZNAME:EST
DTSTART:20221106T060000
END:STANDARD
BEGIN:DAYLIGHT
TZOFFSETFROM:-0500
TZOFFSETTO:-0400
TZNAME:EDT
DTSTART:20230312T070000
END:DAYLIGHT
BEGIN:STANDARD
TZOFFSETFROM:-0400
TZOFFSETTO:-0500
TZNAME:EST
DTSTART:20231105T060000
END:STANDARD
BEGIN:DAYLIGHT
TZOFFSETFROM:-0500
TZOFFSETTO:-0400
TZNAME:EDT
DTSTART:20240310T070000
END:DAYLIGHT
BEGIN:STANDARD
TZOFFSETFROM:-0400
TZOFFSETTO:-0500
TZNAME:EST
DTSTART:20241103T060000
END:STANDARD
BEGIN:DAYLIGHT
TZOFFSETFROM:-0500
TZOFFSETTO:-0400
TZNAME:EDT
DTSTART:20250309T070000
END:DAYLIGHT
BEGIN:STANDARD
TZOFFSETFROM:-0400
TZOFFSETTO:-0500
TZNAME:EST
DTSTART:20251102T060000
END:STANDARD
END:VTIMEZONE
BEGIN:VEVENT
DTSTART;VALUE=DATE:20220925
DTEND;VALUE=DATE:20221003
DTSTAMP:20260419T212947
CREATED:20150829T031351Z
LAST-MODIFIED:20220910T013038Z
UID:10000020-1664064000-1664755199@www.churchofgodeveninglight.com
SUMMARY:Prague\, Oklahoma Tent Meeting
DESCRIPTION:You are cordially invited to a tent revival at Prague Park\, Prague\, OK. Sept 25-Oct 02\, 2022.\nMinister: Bro. Marty Clevenger \nStarting (9/25) Sunday morning services (both Sundays) @10:45 am. Nightly Services @7:00 pm. A potluck dinner will be served after worship service on the last Sunday morning. \nDirections: Coming from the Oklahoma City or Guthrie area\, follow U.S. Highway 62 (known as 23rd Street in OKC). Go east about 45 miles into the west edge of Prague. Soon\, on your right (south) you’ll see the Park Brothers Funeral Home. At the very next street\, about one block\, Sekera Street\, turn right (south) and go about a block to the tent site. Tent should be viewable from Highway 62. \nComing from the Tulsa area\, you will probably come into the town of Prague on State Highway # 99 you will intersect with U.S. Highway 62. Go west on Highway 62 to Sekera Street\, turn left (south) to tent site. \nAll are welcome and invited to come be with us! \nFor more information\, contact:\nEd Wilson (417) 455-3805
URL:https://www.churchofgodeveninglight.com/meetings/prague-tent-meeting/
LOCATION:Prague Park\, 200 South F Avenue\, Prague\, OK\, United States
CATEGORIES:Meeting,Tent Meeting
GEO:35.4855988;-96.6908705
X-APPLE-STRUCTURED-LOCATION;VALUE=URI;X-ADDRESS=Prague Park 200 South F Avenue Prague OK United States;X-APPLE-RADIUS=500;X-TITLE=200 South F Avenue:geo:-96.6908705,35.4855988
END:VEVENT
BEGIN:VEVENT
DTSTART;VALUE=DATE:20240912
DTEND;VALUE=DATE:20240916
DTSTAMP:20260419T212947
CREATED:20240813T015355Z
LAST-MODIFIED:20240813T015959Z
UID:10000058-1726099200-1726444799@www.churchofgodeveninglight.com
SUMMARY:Springfield\, OH Tent Meeting
DESCRIPTION:Springfield OH Chapel  \nThe Springfield\, Ohio congregation of the Church of God welcomes you to a weekend tent meeting and outreach! The meeting will be held in downtown Springfield at the National Road Commons Park\, 55 Fisher St. Springfield\, OH. \nThursday 9/12: Anyone who is available prior to the start of the tent meeting is invited to join us for street outreach and invitations at 6:00 pm; \nFriday 9/13: Street singing outreach 6:00 p.m.\, Evening service under the tent @ 6:30; \nSaturday 9/14: Cookout 11:00 a.m – 4:00 p.m. at Bro. Clint and Sis. Katrina Doolittle’s home (4038 Mallard Ave\, Springfield\, OH 45503) / Street singing outreach 6:00 p.m\, Evening service under the tent @ 6:30; \nSunday 9/15: Morning service under the tent @ 10:00 a.m./ Lunch in the park @ 12:30 pm / Afternoon service under the tent @ 2:00 p.m. \nLodging will be provided on a first come\, first served basis. For more information and lodging reservations\, please contact: \nBro. Clint Doolittle\n(937) 679-6938 \nSis. Katrina Doolittle\n(985) 981-2546 \nBro. Rick Cox\n(937) 604-0536 \nWe welcome your prayers and attendance. \n 
URL:https://www.churchofgodeveninglight.com/meetings/springfield-oh-tent-meeting/
LOCATION:Springfield\, Ohio\, 610 N. Race St.\, Springfield\, OH\, 45504
CATEGORIES:Meeting,Tent Meeting
GEO:39.93241;-83.819854
X-APPLE-STRUCTURED-LOCATION;VALUE=URI;X-ADDRESS=Springfield Ohio 610 N. Race St. Springfield OH 45504;X-APPLE-RADIUS=500;X-TITLE=610 N. Race St.:geo:-83.819854,39.93241
END:VEVENT
END:VCALENDAR