BEGIN:VCALENDAR
VERSION:2.0
PRODID:-//Church of God - ECPv6.15.20//NONSGML v1.0//EN
CALSCALE:GREGORIAN
METHOD:PUBLISH
X-ORIGINAL-URL:https://www.churchofgodeveninglight.com
X-WR-CALDESC:Events for Church of God
REFRESH-INTERVAL;VALUE=DURATION:PT1H
X-Robots-Tag:noindex
X-PUBLISHED-TTL:PT1H
BEGIN:VTIMEZONE
TZID:America/New_York
BEGIN:DAYLIGHT
TZOFFSETFROM:-0500
TZOFFSETTO:-0400
TZNAME:EDT
DTSTART:20190310T070000
END:DAYLIGHT
BEGIN:STANDARD
TZOFFSETFROM:-0400
TZOFFSETTO:-0500
TZNAME:EST
DTSTART:20191103T060000
END:STANDARD
BEGIN:DAYLIGHT
TZOFFSETFROM:-0500
TZOFFSETTO:-0400
TZNAME:EDT
DTSTART:20200308T070000
END:DAYLIGHT
BEGIN:STANDARD
TZOFFSETFROM:-0400
TZOFFSETTO:-0500
TZNAME:EST
DTSTART:20201101T060000
END:STANDARD
BEGIN:DAYLIGHT
TZOFFSETFROM:-0500
TZOFFSETTO:-0400
TZNAME:EDT
DTSTART:20210314T070000
END:DAYLIGHT
BEGIN:STANDARD
TZOFFSETFROM:-0400
TZOFFSETTO:-0500
TZNAME:EST
DTSTART:20211107T060000
END:STANDARD
END:VTIMEZONE
BEGIN:VEVENT
DTSTART;VALUE=DATE:20200226
DTEND;VALUE=DATE:20200302
DTSTAMP:20260420T095850
CREATED:20170920T195702Z
LAST-MODIFIED:20200203T195745Z
UID:10000024-1582675200-1583107199@www.churchofgodeveninglight.com
SUMMARY:Sapulpa\, OK Revival Meeting
DESCRIPTION:Sapulpa\, Oklahoma Chapel  \nSpring revival at Sapulpa\, Oklahoma; Feb 26-Mar 1\, 2020. Bro. Joseph Gellenbeck will be ministering. The week night services begin at 7:00 p.m. \nSunday Schedule:\n9:45 a.m. Sunday school; 10:45 a.m. morning service. \nAll are welcome! \nFor more information call: \nBro. James Bell: (918) 724-3673
URL:https://www.churchofgodeveninglight.com/meetings/sapulpa-ok-revival-meeting/
LOCATION:Sapulpa\, Oklahoma\, 8561 Frankoma Rd\, Sapulpa\, OK\, 74131
CATEGORIES:Meeting,Revival
GEO:36.0398231;-96.0998191
X-APPLE-STRUCTURED-LOCATION;VALUE=URI;X-ADDRESS=Sapulpa Oklahoma 8561 Frankoma Rd Sapulpa OK 74131;X-APPLE-RADIUS=500;X-TITLE=8561 Frankoma Rd:geo:-96.0998191,36.0398231
END:VEVENT
END:VCALENDAR